BEGIN:VCALENDAR
VERSION:2.0
PRODID:-//wp-events-plugin.com//5.99912//EN
TZID:Europe/Berlin
X-WR-TIMEZONE:Europe/Berlin
BEGIN:VEVENT
UID:0-292@aldingen.albverein.eu
DTSTART;TZID=Europe/Berlin:20260425T150000
DTEND;TZID=Europe/Berlin:20260425T150000
DTSTAMP:20260420T061805Z
URL:https://aldingen.albverein.eu/events/tag-des-baumes-bank-und-baumspend
 e/
SUMMARY:Tag des Baumes – Bank- und Baumspende
DESCRIPTION:Am Samstag\, 25.04.2026\, ist "Tag des Baumes". Anlässlich die
 ses Gedenktages trifft sich der Albverein OG Aldingen um 15 Uhr am frisch 
 renovierten Lachenbrunnen (Friedhofsparkplatz). Dort befindet sich seit ku
 rzer Zeit eine vom Albverein gespendete Bank. Schräg gegenüber in der Sc
 hurarer Straße wurde eine Winterlinde gepflanzt\, die ebenfalls eine Spen
 de des Albvereins ist. Mit Bank und Baum wollen wir einen Beitrag zur Vers
 chönerung unserer Gemeinde leisten.\n\nDen Akt der Übergabe an die Gemei
 nde wollen wir festlich gestalten. Im Anschluss daran gehen wir gemeinsam 
 zum nahegelegenen "Treffpunkt Albverein"\, Im Brühl 25\, wo es einen Umtr
 unk und einen kleinen Imbiss gibt.\n\nZu dieser Feierstunde laden wir alle
  Mitglieder und Freunde des Albvereins sowie alle interessierten Bürger h
 erzlich ein.
END:VEVENT
BEGIN:VTIMEZONE
TZID:Europe/Berlin
X-LIC-LOCATION:Europe/Berlin
BEGIN:DAYLIGHT
DTSTART:20260329T030000
TZOFFSETFROM:+0100
TZOFFSETTO:+0200
TZNAME:CEST
END:DAYLIGHT
END:VTIMEZONE
END:VCALENDAR